BEGIN:VCALENDAR
VERSION:2.0
PRODID:-//hacksw/handcal//NONSGML v1.0//EN
CALSCALE:GREGORIAN
BEGIN:VEVENT
DTSTART;TZID=Europe/Sofia:20210113T110000Z
DTEND;TZID=Europe/Sofia:20210113T170000Z
DESCRIPTION:Организира се протест от ПП АБВ със сикане за оставка на Правилтелството. Всеки може да заповяда и да се чувства свободен да изрази собственото си мнение.
LOCATION:Народно събрание\, пл. Народно събрание
SUMMARY:Протестът продължава до оставка!
URL;VALUE=URI:https://abv-alternativa.bg/event/%d0%bf%d1%80%d0%be%d1%82%d0%b5%d1%81%d1%82%d1%8a%d1%82-%d0%bf%d1%80%d0%be%d0%b4%d1%8a%d0%bb%d0%b6%d0%b0%d0%b2%d0%b0-%d0%b4%d0%be-%d0%be%d1%81%d1%82%d0%b0%d0%b2%d0%ba%d0%b0/?s_date=1610535600&e_date=1610557200
DTSTAMP:20211003T032332Z
UID:61592234dd9c9
END:VEVENT
END:VCALENDAR