BEGIN:VCALENDAR
VERSION:2.0
PRODID:-//hacksw/handcal//NONSGML v1.0//EN
CALSCALE:GREGORIAN
BEGIN:VEVENT
DTSTART;TZID=Europe/Sofia:20210301T130000Z
DTEND;TZID=Europe/Sofia:20210301T150000Z
DESCRIPTION:Доцент Атанас Мангъров ще се срещне с граждани на открито в понеделник (01.03) в Стара Загора. Заповядайте да зададете директно и без притеснение Вашите въпроси за всичко\, което Ви вълнува\, на следните места: Стара Загора - 13:00 часа на Часовника Вашите въпроси ще можете да отправите и към водача на листата на #АБВ в област&hellip\;
LOCATION:
SUMMARY:Среща на граждани с доц. Мангъров &#8211\; Стара Загора
URL;VALUE=URI:https://abv-alternativa.bg/event/%d1%81%d1%80%d0%b5%d1%89%d0%b0-%d0%bd%d0%b0-%d0%b3%d1%80%d0%b0%d0%b6%d0%b4%d0%b0%d0%bd%d0%b8-%d1%81-%d0%b4%d0%be%d1%86-%d0%bc%d0%b0%d0%bd%d0%b3%d1%8a%d1%80%d0%be%d0%b2/?s_date=1614603600&e_date=1614610800
DTSTAMP:20211003T032440Z
UID:615922782c276
END:VEVENT
END:VCALENDAR